BEGIN:VCALENDAR
VERSION:2.0
PRODID:-//Barts Work - ECPv4.0.6//NONSGML v1.0//EN
CALSCALE:GREGORIAN
METHOD:PUBLISH
X-WR-CALNAME:Barts Work
X-ORIGINAL-URL:https://bartswork.com/wordpress
X-WR-CALDESC:Events for Barts Work
BEGIN:VEVENT
DTSTART;TZID="UTC-4":20160903T080000
DTEND;TZID="UTC-4":20161030T170000
DTSTAMP:20260424T135112
CREATED:20160128T003502
LAST-MODIFIED:20160128T005600
UID:261-1472889600-1477846800@bartswork.com
SUMMARY:Flying Horse Outdoor Sculpture Exhibit at Pingree
DESCRIPTION:
URL:https://bartswork.com/wordpress/event/pingree-flying-horse/
LOCATION:537 Highland street\, South Hamilton\, MA\, 01982\, United States
END:VEVENT
END:VCALENDAR